BEGIN:VCALENDAR
VERSION:2.0
PRODID:-//Atlanta Vineyard - ECPv6.15.11//NONSGML v1.0//EN
CALSCALE:GREGORIAN
METHOD:PUBLISH
X-ORIGINAL-URL:https://atlantavineyard.com
X-WR-CALDESC:Events for Atlanta Vineyard
REFRESH-INTERVAL;VALUE=DURATION:PT1H
X-Robots-Tag:noindex
X-PUBLISHED-TTL:PT1H
BEGIN:VTIMEZONE
TZID:America/New_York
BEGIN:DAYLIGHT
TZOFFSETFROM:-0500
TZOFFSETTO:-0400
TZNAME:EDT
DTSTART:20250309T070000
END:DAYLIGHT
BEGIN:STANDARD
TZOFFSETFROM:-0400
TZOFFSETTO:-0500
TZNAME:EST
DTSTART:20251102T060000
END:STANDARD
BEGIN:DAYLIGHT
TZOFFSETFROM:-0500
TZOFFSETTO:-0400
TZNAME:EDT
DTSTART:20260308T070000
END:DAYLIGHT
BEGIN:STANDARD
TZOFFSETFROM:-0400
TZOFFSETTO:-0500
TZNAME:EST
DTSTART:20261101T060000
END:STANDARD
BEGIN:DAYLIGHT
TZOFFSETFROM:-0500
TZOFFSETTO:-0400
TZNAME:EDT
DTSTART:20270314T070000
END:DAYLIGHT
BEGIN:STANDARD
TZOFFSETFROM:-0400
TZOFFSETTO:-0500
TZNAME:EST
DTSTART:20271107T060000
END:STANDARD
END:VTIMEZONE
BEGIN:VEVENT
DTSTART;TZID=America/New_York:20260412T103000
DTEND;TZID=America/New_York:20260412T120000
DTSTAMP:20260421T114343
CREATED:20260225T155535Z
LAST-MODIFIED:20260225T155535Z
UID:11128-1775989800-1775995200@atlantavineyard.com
SUMMARY:Sunday Service
DESCRIPTION:
URL:https://atlantavineyard.com/event/sunday-service-8/
END:VEVENT
BEGIN:VEVENT
DTSTART;TZID=America/New_York:20260412T110000
DTEND;TZID=America/New_York:20260412T120000
DTSTAMP:20260421T114343
CREATED:20260305T151501Z
LAST-MODIFIED:20260305T151501Z
UID:11174-1775991600-1775995200@atlantavineyard.com
SUMMARY:Holy Communion Sunday
DESCRIPTION:
URL:https://atlantavineyard.com/event/holy-communion-sunday-2/
END:VEVENT
END:VCALENDAR